BEGIN:VCALENDAR
VERSION:2.0
PRODID:icalendar-ruby
CALSCALE:GREGORIAN
METHOD:PUBLISH
BEGIN:VEVENT
DTSTAMP:20260422T120138Z
UID:20-109199@campoverlook.org
DTSTART:20260616T140000Z
DTEND:20260618T140000Z
CLASS:PUBLIC
CREATED:20260421T150508
DESCRIPTION:Register for now for our Friends Together Camp. This is a camp 
 for Adults with Intellectual Disabilities. Campers will enjoy many of the 
 activities that are avaialbe at camp including Arts and Crafts\, Lake Time
 \, Games\, &amp\; Singing. \nCost for this 2 night event is $135. \nCamp
 ers will stay in one of our buildings on Agape Hill. They will be moving a
 round camp at different times\, so decent mobility will be required. 
LAST-MODIFIED:20260421T150508
LOCATION:Agape Hill
SUMMARY:Friends Together Camp
URL;VALUE=URI:https://www.campoverlook.org/events/friends-together-camp--19
 /2026-06-16
END:VEVENT
END:VCALENDAR
